BEGIN:VCALENDAR
PRODID:-//eluceo/ical//2.0/EN
VERSION:2.0
CALSCALE:GREGORIAN
BEGIN:VEVENT
UID:b5dcef9f87bd1b7bcce820722468336c
DTSTAMP:20260421T001617Z
SUMMARY:L'arbitrage commercial international
DESCRIPTION:Prof. Pierre Tercier\nOrador(es): Prof. Pierre Tercier
URL:https://fribourg-sarine.rotary1990.ch/es/agenda/show/11912
DTSTART;TZID=Europe/Zurich:20090916T000000
DTEND;TZID=Europe/Zurich:20090916T000000
LOCATION:café-restaurant Punkt-Grenette
CATEGORIES:Rotary
END:VEVENT
BEGIN:VTIMEZONE
TZID:Europe/Zurich
BEGIN:DAYLIGHT
DTSTART:20090916T000000
TZNAME:CEST
TZOFFSETTO:+0200
TZOFFSETFROM:+0200
END:DAYLIGHT
END:VTIMEZONE
END:VCALENDAR
