BEGIN:VCALENDAR
PRODID:-//eluceo/ical//2.0/EN
VERSION:2.0
CALSCALE:GREGORIAN
BEGIN:VEVENT
UID:641442cc3114504c0246ff464872d4f5
DTSTAMP:20260424T113442Z
SUMMARY:Projet Kenya
DESCRIPTION:L'orphelinat de Watoto - J.Vonlanthen\nOrador(es): J.Vonlanthen
URL:https://fribourg-sarine.rotary1990.ch/es/agenda/show/11907
DTSTART;TZID=Europe/Zurich:20090812T120000
DTEND;TZID=Europe/Zurich:20090812T120000
LOCATION:café-restaurant Punkt-Grenette
CATEGORIES:Rotary
END:VEVENT
BEGIN:VTIMEZONE
TZID:Europe/Zurich
BEGIN:DAYLIGHT
DTSTART:20090812T120000
TZNAME:CEST
TZOFFSETTO:+0200
TZOFFSETFROM:+0200
END:DAYLIGHT
END:VTIMEZONE
END:VCALENDAR
